Workbook

Sheet מחוון
A1: מס' מציע: ______________________ | L1: מינ' | M1: 7
L2: מקס' | M2: 10
A3: סעיף ראשי | B3: סעיף משנה | C3: ההיקף הנדרש | D3: מרכיב ציון | F3: משקל | G3: היקף שהוצג | H3: ציון משוקלל לסעיף | I3: ציון כולל | J3: היקף מינימום | K3: היקף מקסימום | L3: הפרש | M3: =M2-M1 -> 3
A4: ניסיון היועץ המוצע | B4: ניסיון בתכנון מבנה וכן ליווי בנייתו עד לגמר הבנייה (בפיקוח עליון) של מבני בתי ספר ו/או גנים
C5: שנות ניסיון בביצוע הפעילות | D5: פחות מ- 10 שנים | E5: פסול | F5: 0.2 | H5: =IF(G5<J5,0,IF(G5=J5,$M$1,IF(G5>K5,$M$2,$M$3/(K5-J5)*(G5-J5)+$M$1))) -> 0 | J5: 10 | K5: 15 | L5: =SUM(F5:F22) -> 1
D6: 10 שנים | E6: =$M$1 -> 7
D7: 11-14 שנים | E7: לכל שנה +0.60
D8: 15 שנים ומעלה | E8: 10
C9: מבני בתי ספר בשטח של לפחות 2,500 מ"ר | D9: פחות מ- 3 מבנים | E9: פסול | F9: 0.3 | H9: =IF(G9<J9,0,IF(G9=J9,$M$1,IF(G9>K9,$M$2,$M$3/(K9-J9)*(G9-J9)+$M$1))) -> 0 | J9: 3 | K9: 6
D10: 3 מבנים | E10: =$M$1 -> 7
D11: 4-5 מבנים | E11: לכל מבנה+1.00
D12: 6 מבנים ומעלה | E12: 10
C13: מבני גנים בשטח של לפחות 250 מ"ר | D13: פחות מ- 2 מבנים | E13: פסול | F13: 0.3 | J13: 2 | K13: 5
D14: 2 מבנים | E14: =$M$1 -> 7
D15: 3-4 מבנים | E15: לכל מבנה+1.00
D16: 5 מבנים ומעלה | E16: 10
B17: ניסיון בתכנון פרויקטים באחד או יותר מהנושאים הבאים: תכנון שכונה או ישוב, תכנון תכנית אב ישובית למוסדות חינוך או למערכות חינוך | C17: פרויקטים באחד או יותר מהנושאים הבאים: תכנון שכונה או ישוב, תכנון תכנית אב ישובית למוסדות חינוך או למערכות חינוך | D17: פחות מ- 3 פרוייקטים | E17: 0 | F17: 0.1 | H17: =IF(G17<J17,0,IF(G17=J17,$M$1,IF(G17>K17,$M$2,$M$3/(K17-J17)*(G17-J17)+$M$1))) -> 0 | J17: 3 | K17: 6
D18: 3 פרוייקטים | E18: =$M$1 -> 7
D19: 4-5 פרוייקטים | E19: לכל פרוייקט+1.00
D20: 6 פרוייקטים ומעלה | E20: 10
B21: ניסיון בתכנון מבנה בית ספר חדשני (לפי קול קורא של משרד החינוך בנושא, המתפרסם מדי שנה) | C21: מספר מבני בתי ספר חדשניים שתוכננו על ידי האדריכל | D21: מבנה אחד | E21: 7 | F21: 0.1 | H21: =+G21 -> 0 | J21: 1 | K21: 2
D22: שני מבנים ומעלה | E22: 10
A23: התרשמות מאיכות פרוייקטים דומים שביצע האדריכל המוצע | B23: ציון 1-10 | C23: מקוריות | F23: 0.25 | L23: =SUM(F23:F26) -> 1
C24: חדשנות | F24: 0.25
C25: פרקטיות | F25: 0.25
C26: התרשמות כללית | F26: 0.25
A27: חוות דעת על היועץ המוצע | B27: חוות דעת שנלקחה מאנשי הקשר כפי שמפורט בטופס בדיקת ההצעות (*) | C27: ציון 0 - 5 | D27: חוות דעת מס' 1 | F27: =1/3 -> 0.33333333 | H27: =G27*F27 -> 0 | L27: =SUM(F27:F29) -> 1
D28: חוות דעת מס' 2 | F28: =1/3 -> 0.33333333 | H28: =G28*F28 -> 0
D29: חוות דעת מס' 3 | F29: =1/3 -> 0.33333333 | H29: =G29*F29 -> 0
A30: שם וחתימה | D30: שם וחתימה | H30: שם וחתימה
A31: שם וחתימה | D31: שם וחתימה | H31: שם וחתימה
A33: הערה : בכל הקשור לתנאי סף - אם פסול באחד הפרטים ההצעה תפסל על הסף ולא ייערך שיקלול של המרכיבים האחרים
A35: (*) אם ההצעה היא מטעם מציע שזכה בעבר במכרז של המשרד או שלמשרד היכרות אחרת עמו או מידע לגביו, ילקח בחשבון, כאחד מהשיקולים המכריעים, אופן ביצוע התחייבויות המציע, לרבות עמידה בלוח זמנים ואיכות העבודות ורמת השירות.

Sheet קריטריונים
A1: המשרד | B1: משרד החינוך | C1: מכרז מס': | D1: הנושא: ייעוץ והנחייה בתחומי האדריכלות עבור המינהל לפיתוח מערכת החינוך | I1: דף: | J1: 1 | K1: תחום: | M1: אדירכלות מבנים
A2: היחידה | B2: המינהל לפיתוח מערכת החינוך | C2: ='סיכום הצעות'!C2 -> 30/11.2025 | I2: מתוך: | J2: 2 | K2: תאריך עדכון:
A3: פרוט הנושא | C3: יחידת ספירה | D3: משקל | E3: הצעה: | G3: הצעה: | I3: הצעה: | K3: הצעה: | M3: הערות
D4: יחסי | E4: ערך | F4: ציון | G4: ערך | H4: ציון | I4: ערך | J4: ציון | K4: ערך | L4: ציון
A5: נסיון היועץ המוצע | B5: =מחוון!C5 -> שנות ניסיון בביצוע הפעילות | C5: עפ"י היקפים מינימליים נדרשים | D5: 0.2 | M5: עפ"י המחוון
B6: =מחוון!C9 -> מבני בתי ספר בשטח של לפחות 2,500 מ"ר | C6: עפ"י היקפים מינימליים נדרשים | D6: 0.3 | M6: עפ"י המחוון
B7: =מחוון!C13 -> מבני גנים בשטח של לפחות 250 מ"ר | C7: עפ"י היקפים מינימליים נדרשים | D7: 0.3 | M7: עפ"י המחוון
B8: =מחוון!B17 -> ניסיון בתכנון פרויקטים באחד או יותר מהנושאים הבאים: תכנון שכונה או ישוב, תכנון תכנית אב ישובית למוסדות חינוך או למערכות חינוך | C8: עפ"י היקפים מינימליים נדרשים | D8: 0.1 | M8: עפ"י המחוון
B9: =מחוון!C21 -> מספר מבני בתי ספר חדשניים שתוכננו על ידי האדריכל | C9: עפ"י היקפים מינימליים נדרשים | D9: 0.1 | M9: עפ"י המחוון
B10: ציון משוקלל לנושא | D10: =SUM(D5:D9) -> 1 | F10: =SUM(F5:F9) -> 0 | H10: =SUM(H5:H9) -> 0 | J10: =SUM(J5:J9) -> 0 | L10: =SUM(L5:L9) -> 0
A11: =מחוון!A23 -> התרשמות מאיכות פרוייקטים דומים שביצע האדריכל המוצע | B11: =מחוון!C23 -> מקוריות | C11: ציון 1-10 | D11: =מחוון!F23 -> 0.25
B12: =מחוון!C24 -> חדשנות | C12: ציון 1-10 | D12: =מחוון!F24 -> 0.25
B13: =מחוון!C25 -> פרקטיות | C13: ציון 1-10 | D13: =מחוון!F25 -> 0.25
B14: =מחוון!C26 -> התרשמות כללית | C14: ציון 1-10 | D14: =מחוון!F26 -> 0.25
B15: ציון משוקלל לנושא | D15: =SUM(D11:D14) -> 1 | F15: =SUM(F11:F14) -> 0 | H15: =SUM(H11:H14) -> 0 | J15: =SUM(J11:J14) -> 0 | L15: =SUM(L11:L14) -> 0
A16: חוות דעת | B16: חוות דעת | C16: ציון 1-5 | D16: 1 | M16: עפ"י המחוון
B17: ציון משוקלל לנושא | D17: =SUM(D16) -> 1 | F17: =SUM(F16) -> 0 | H17: =SUM(H16) -> 0 | J17: =SUM(J16) -> 0 | L17: =SUM(L16) -> 0
A18: הצעת המחיר | B18: פרוט הנושא | C18: יחידת חישוב | D18: כמות | E18: הצעה: | F18: 1 | G18: הצעה: | H18: 2 | I18: הצעה: | J18: 3 | K18: הצעה: | L18: 4 | M18: הערות
E19: ערך | F19: ציון | G19: ערך | H19: ציון | I19: ערך | J19: ציון | K19: ערך | L19: ציון
B20: אחוז הנחה על התעריף המירבי לשעה של מתכנן 2 | C20: אחוז | D20: 500 | M20: תעריף מירבי לשעה של מתכנן 2 - 330 ₪
B21: סה"כ הצעת המחיר ללא מע"מ
B22: סה"כ הצעת המחיר כולל מע"מ
F24: 330 | L24: 330
F25: =F24*(1-E20) -> 330 | L25: =L24*(1-K20) -> 330
F26: =F25*D20 -> 165000 | L26: =L25*D20 -> 165000

Sheet סיכום הצעות
A1: משרד החינוך | C1: מכרז מס': | D1: הנושא: ייעוץ והנחייה בתחומי האדריכלות עבור המינהל לפיתוח מערכת החינוך | I1: דף: | J1: 2 | L1: =קריטריונים!K1 -> תחום: | M1: =קריטריונים!M1 -> אדירכלות מבנים
A2: המינהל לפיתוח מערכת החינוך | C2: 30/11.2025 | I2: מתוך: | J2: 2 | L2: תאריך עדכון:
D3: סה"כ משקל סעיפי איכות: | G3: 0.6 | I3: משקל מחיר: | J3: 0.4 | L3: הערכה כוללת
A4: מספר | B4: שם המציע | C4: הקריטריון | D4: נסיון היועץ המוצע | E4: התרשמות מפרוייקטים | F4: חוות דעת | G4: ציון סעיפי האיכות | H4: ציון איכות משוקלל | I4: מחיר משוקלל | J4: ציון המחיר | K4: ציון מחיר משוקלל | L4: ציון סופי משוקלל | M4: דירוג יחסי
C7: משקל יחסי => | D7: 0.6 | E7: 0.3 | F7: 0.1 | G7: =SUM(D7:F7) -> 1 | I7: 1 | J7: 1
A8: 1 | C8: ציון מוחלט =>
C9: ציון יחסי =>>
A10: 2 | C10: ציון מוחלט =>
C11: ציון יחסי =>>
A12: 3 | C12: ציון מוחלט =>
C13: ציון יחסי =>>
A14: 4 | C14: ציון מוחלט =>
C15: ציון יחסי =>>
A16: 5 | C16: ציון מוחלט =>
C17: ציון יחסי =>>
A18: 6 | C18: ציון מוחלט => | G18: =SUM(D18:F18) -> 0 | H18: =G18*$G$3 -> 0
C19: ציון יחסי =>>
A20: 7 | C20: ציון מוחלט => | G20: =SUM(D20:F20) -> 0 | H20: =G20*$G$3 -> 0
C21: ציון יחסי =>>
I22: =MIN(I8:I21) -> 0
B23: משקל סעיפי האיכות | C23: 0.6
B24: משקל מחיר | C24: 0.4
B25: סה"כ | C25: =SUM(C23:C24) -> 1
B27: ציון מעבר מציון כולל של סעיפי האיכות לציון המחיר | C27: 0.8
B29: ציון מינימום נדרש בכל אחד מסעיפי האיכות בפני עצמו : | F29: 0.7
